BEGIN:VCALENDAR
VERSION:2.0
PRODID:-//Jeanine K. Fitzgerald - ECPv6.15.11//NONSGML v1.0//EN
CALSCALE:GREGORIAN
METHOD:PUBLISH
X-WR-CALNAME:Jeanine K. Fitzgerald
X-ORIGINAL-URL:http://www.jeaninefitzgerald.com
X-WR-CALDESC:Events for Jeanine K. Fitzgerald
REFRESH-INTERVAL;VALUE=DURATION:PT1H
X-Robots-Tag:noindex
X-PUBLISHED-TTL:PT1H
BEGIN:VTIMEZONE
TZID:America/New_York
BEGIN:DAYLIGHT
TZOFFSETFROM:-0500
TZOFFSETTO:-0400
TZNAME:EDT
DTSTART:20190310T070000
END:DAYLIGHT
BEGIN:STANDARD
TZOFFSETFROM:-0400
TZOFFSETTO:-0500
TZNAME:EST
DTSTART:20191103T060000
END:STANDARD
BEGIN:DAYLIGHT
TZOFFSETFROM:-0500
TZOFFSETTO:-0400
TZNAME:EDT
DTSTART:20200308T070000
END:DAYLIGHT
BEGIN:STANDARD
TZOFFSETFROM:-0400
TZOFFSETTO:-0500
TZNAME:EST
DTSTART:20201101T060000
END:STANDARD
BEGIN:DAYLIGHT
TZOFFSETFROM:-0500
TZOFFSETTO:-0400
TZNAME:EDT
DTSTART:20210314T070000
END:DAYLIGHT
BEGIN:STANDARD
TZOFFSETFROM:-0400
TZOFFSETTO:-0500
TZNAME:EST
DTSTART:20211107T060000
END:STANDARD
END:VTIMEZONE
BEGIN:VEVENT
DTSTART;TZID=America/New_York:20200404T090000
DTEND;TZID=America/New_York:20200404T090000
DTSTAMP:20260423T204726
CREATED:20200103T135254Z
LAST-MODIFIED:20200103T135254Z
UID:366-1585990800-1585990800@www.jeaninefitzgerald.com
SUMMARY:EWI Basic Studies - April
DESCRIPTION:APRIL 4th + 11th AND MAY 2nd + 9th | 9-4 EACH DAY \n\nMODULE ONE: FRAMEWORKS MATTER!\nUnderstanding the promise\, embracing the possibilities\nToday\, we are challenged to do more with less\, adapt quickly to changing requirements and mandates\, innovate on the fly\, deal with extreme uncertainty\, and somehow still find time for developing character and competence in our children. We believe you are capable of developing yourself as an educator or parent far more than tradition has presumed possible. This module inspires a shared vision for the future for the common good\, and applies unity of purpose to the field of education. It searches for opportunities to innovate ways to adjust\, grow\, and improve\, and identifies how demographics and technology are likely to influence the direction of education. This module explores ways to engage not only those who have always thrived within tradition\, but also those who could thrive when provided the resources and approaches necessary to do so. There are no hopeless children; but many adults who have grown hopeless about the situation they are in with the child. \n\n\nMODULE TWO: PROFILES MATTER!\nRevealing the essence\, nurturing the greatness\nWe all live under the same sky\, but we all have different horizons. We relate\, learn and negotiate based on our unique horizon. Understanding styles\, perspectives\, preferences and needs empowers us to discover and explore possibilities\, rather than manage misunderstanding or challenging behavior. This module leads professionals and parents toward understanding the layer of possibilities waiting to unfold\, our layers and those of our children. We will examine research-based insights that uncover strengths and apply those insights to maximize our effectiveness and outcomes. All children are perfectly designed and we must work in ways that ensures that design is visible\, valued and supported. \n\n  \n	\n\n		\n		\n			$895.00 – Purchase Checkout\n							\n					\n						\n							\n						\n						Added to cart
URL:http://www.jeaninefitzgerald.com/event/ewi-basic-studies-april/
LOCATION:Westfield Massachusetts\, MA\, United States
CATEGORIES:Basic Studies
ORGANIZER;CN="Jeanine K. Fitzgerald":MAILTO:tpfitz45@aol.com
END:VEVENT
BEGIN:VEVENT
DTSTART;TZID=America/New_York:20200204T090000
DTEND;TZID=America/New_York:20200204T090000
DTSTAMP:20260423T204726
CREATED:20180801T170927Z
LAST-MODIFIED:20200103T135112Z
UID:123-1580806800-1580806800@www.jeaninefitzgerald.com
SUMMARY:EWI Basic Studies
DESCRIPTION:FEBRUARY 4th + 7th AND MARCH 2nd + 3rd | 9-4 EACH DAY \n\nMODULE ONE: FRAMEWORKS MATTER!\nUnderstanding the promise\, embracing the possibilities\nToday\, we are challenged to do more with less\, adapt quickly to changing requirements and mandates\, innovate on the fly\, deal with extreme uncertainty\, and somehow still find time for developing character and competence in our children. We believe you are capable of developing yourself as an educator or parent far more than tradition has presumed possible. This module inspires a shared vision for the future for the common good\, and applies unity of purpose to the field of education. It searches for opportunities to innovate ways to adjust\, grow\, and improve\, and identifies how demographics and technology are likely to influence the direction of education. This module explores ways to engage not only those who have always thrived within tradition\, but also those who could thrive when provided the resources and approaches necessary to do so. There are no hopeless children; but many adults who have grown hopeless about the situation they are in with the child. \n\n\nMODULE TWO: PROFILES MATTER!\nRevealing the essence\, nurturing the greatness\nWe all live under the same sky\, but we all have different horizons. We relate\, learn and negotiate based on our unique horizon. Understanding styles\, perspectives\, preferences and needs empowers us to discover and explore possibilities\, rather than manage misunderstanding or challenging behavior. This module leads professionals and parents toward understanding the layer of possibilities waiting to unfold\, our layers and those of our children. We will examine research-based insights that uncover strengths and apply those insights to maximize our effectiveness and outcomes. All children are perfectly designed and we must work in ways that ensures that design is visible\, valued and supported. \n\n  \n	\n\n		\n		\n			$895.00 – Purchase Checkout\n							\n					\n						\n							\n						\n						Added to cart
URL:http://www.jeaninefitzgerald.com/event/ewi-basic-test/
LOCATION:Westfield Massachusetts\, MA\, United States
CATEGORIES:Basic Studies
ORGANIZER;CN="Jeanine K. Fitzgerald":MAILTO:tpfitz45@aol.com
END:VEVENT
END:VCALENDAR